BEGIN:VCALENDAR
VERSION:2.0
PRODID:-//Contratero//ES
CALSCALE:GREGORIAN
METHOD:PUBLISH
BEGIN:VEVENT
UID:SERVICIOS 15/25@contratero.es
DTSTAMP:20260419T143810Z
DTSTART:20250517T235959
DTEND:20250518T005959
SUMMARY:Cierre: Ejecución de los trabajos consistentes en la prest
DESCRIPTION:Ejecución de los trabajos consistentes en la prestación de los servicios de Delegado/a de Protección de Datos\, evaluación de impacto de la protección de datos\, y creación y mantenimiento del Registro ...\\n\\nOrganismo: Junta de Gobierno del Ayuntamiento de Toledo\\n\\nVer en Contratero: https://contratero.es/contracts/SERVICIOS 15/25
URL:https://contratero.es/contracts/SERVICIOS 15/25
STATUS:CONFIRMED
BEGIN:VALARM
TRIGGER:-P1D
ACTION:DISPLAY
DESCRIPTION:Recordatorio: Ejecución de los trabajos cons
END:VALARM
END:VEVENT
END:VCALENDAR